0.299850074999999990
0.0
0.0
-0.299850074999999990
681200.14993416925
7187999.8501182878
