0.299850074999999990
0.0
0.0
-0.299850074999999990
679600.14993464609
7190399.8501175726
