0.299850074999999990
0.0
0.0
-0.299850074999999990
678000.14993512304
7185599.8501190031
