0.299850074999999990
0.0
0.0
-0.299850074999999990
678000.14993512304
7191599.8501261277
