0.299850074999999990
0.0
0.0
-0.299850074999999990
676400.14993559988
7174799.8501311345
