0.299850074999999990
0.0
0.0
-0.299850074999999990
676400.14993559988
7189199.8501268430
