0.299850074999999990
0.0
0.0
-0.299850074999999990
674800.14993607684
7185599.8501190031
