0.299850074999999990
0.0
0.0
-0.299850074999999990
673200.14993655367
7184399.8501282735
