0.299850074999999990
0.0
0.0
-0.299850074999999990
671600.14993703063
7166399.8501247251
