0.299850074999999990
0.0
0.0
-0.299850074999999990
671600.14993703063
7195199.8501339667
