0.299850074999999990
0.0
0.0
-0.299850074999999990
670000.14993750746
7172399.8501318498
