0.299850074999999990
0.0
0.0
-0.299850074999999990
670000.14993750746
7186799.8501275582
