0.299850074999999990
0.0
0.0
-0.299850074999999990
668400.14992015879
7179599.8501297040
