0.299850074999999990
0.0
0.0
-0.299850074999999990
668400.14992015879
7187999.8501182878
