0.299850074999999990
0.0
0.0
-0.299850074999999990
666800.14992063574
7175999.8501218641
