0.299850074999999990
0.0
0.0
-0.299850074999999990
665200.14992111258
7167599.8501332803
