0.299850074999999990
0.0
0.0
-0.299850074999999990
665200.14992111258
7181999.8501289887
