0.299850074999999990
0.0
0.0
-0.299850074999999990
665200.14992111258
7192799.8501168573
