0.299850074999999990
0.0
0.0
-0.299850074999999990
663600.14992158953
7179599.8501297040
