0.299850074999999990
0.0
0.0
-0.299850074999999990
663600.14992158953
7186799.8501275582
