0.299850074999999990
0.0
0.0
-0.299850074999999990
662000.14992206637
7185599.8501190031
