0.299850074999999990
0.0
0.0
-0.299850074999999990
668400.14992015879
7163999.8501254413
